BEGIN:VCALENDAR
VERSION:2.0
PRODID:-//HelenKennard.com - Helen Kennard, Stampin&#039; Up! Demonstrator - ECPv6.15.20//NONSGML v1.0//EN
CALSCALE:GREGORIAN
METHOD:PUBLISH
X-ORIGINAL-URL:https://helenkennard.com
X-WR-CALDESC:Events for HelenKennard.com - Helen Kennard, Stampin&#039; Up! Demonstrator
REFRESH-INTERVAL;VALUE=DURATION:PT1H
X-Robots-Tag:noindex
X-PUBLISHED-TTL:PT1H
BEGIN:VTIMEZONE
TZID:America/New_York
BEGIN:DAYLIGHT
TZOFFSETFROM:-0500
TZOFFSETTO:-0400
TZNAME:EDT
DTSTART:20190310T070000
END:DAYLIGHT
BEGIN:STANDARD
TZOFFSETFROM:-0400
TZOFFSETTO:-0500
TZNAME:EST
DTSTART:20191103T060000
END:STANDARD
BEGIN:DAYLIGHT
TZOFFSETFROM:-0500
TZOFFSETTO:-0400
TZNAME:EDT
DTSTART:20200308T070000
END:DAYLIGHT
BEGIN:STANDARD
TZOFFSETFROM:-0400
TZOFFSETTO:-0500
TZNAME:EST
DTSTART:20201101T060000
END:STANDARD
BEGIN:DAYLIGHT
TZOFFSETFROM:-0500
TZOFFSETTO:-0400
TZNAME:EDT
DTSTART:20210314T070000
END:DAYLIGHT
BEGIN:STANDARD
TZOFFSETFROM:-0400
TZOFFSETTO:-0500
TZNAME:EST
DTSTART:20211107T060000
END:STANDARD
END:VTIMEZONE
BEGIN:VEVENT
DTSTART;TZID=America/New_York:20200120T183000
DTEND;TZID=America/New_York:20200120T210000
DTSTAMP:20260425T190234
CREATED:20200107T155120Z
LAST-MODIFIED:20200107T155120Z
UID:1082-1579545000-1579554000@helenkennard.com
SUMMARY:Fall/ Christmas Scrapbook Class
DESCRIPTION:This scrapbook class with help bring those holiday memories together on paper. We will make 6 – 12 x 12 pages in one class.  That is 3 – 2 page beautiful layouts to include Halloween\, Thanksgiving and Christmas all in one class. Don’t have children or grand-children? Insert pets\, family or friends\, and co-workers.
URL:https://helenkennard.com/event/fall-christmas-scrapbook-class/
LOCATION:Helen Kennard’s Studio\, 3106 Juniper Branch Drive\, Grimesland\, NC\, 27837\, United States
CATEGORIES:Scrapbook Class
END:VEVENT
END:VCALENDAR