BEGIN:VCALENDAR
VERSION:2.0
PRODID:-//HelenKennard.com - Helen Kennard, Stampin&#039; Up! Demonstrator - ECPv6.15.20//NONSGML v1.0//EN
CALSCALE:GREGORIAN
METHOD:PUBLISH
X-ORIGINAL-URL:https://helenkennard.com
X-WR-CALDESC:Events for HelenKennard.com - Helen Kennard, Stampin&#039; Up! Demonstrator
REFRESH-INTERVAL;VALUE=DURATION:PT1H
X-Robots-Tag:noindex
X-PUBLISHED-TTL:PT1H
BEGIN:VTIMEZONE
TZID:America/New_York
BEGIN:DAYLIGHT
TZOFFSETFROM:-0500
TZOFFSETTO:-0400
TZNAME:EDT
DTSTART:20200308T070000
END:DAYLIGHT
BEGIN:STANDARD
TZOFFSETFROM:-0400
TZOFFSETTO:-0500
TZNAME:EST
DTSTART:20201101T060000
END:STANDARD
BEGIN:DAYLIGHT
TZOFFSETFROM:-0500
TZOFFSETTO:-0400
TZNAME:EDT
DTSTART:20210314T070000
END:DAYLIGHT
BEGIN:STANDARD
TZOFFSETFROM:-0400
TZOFFSETTO:-0500
TZNAME:EST
DTSTART:20211107T060000
END:STANDARD
BEGIN:DAYLIGHT
TZOFFSETFROM:-0500
TZOFFSETTO:-0400
TZNAME:EDT
DTSTART:20220313T070000
END:DAYLIGHT
BEGIN:STANDARD
TZOFFSETFROM:-0400
TZOFFSETTO:-0500
TZNAME:EST
DTSTART:20221106T060000
END:STANDARD
END:VTIMEZONE
BEGIN:VEVENT
DTSTART;TZID=America/New_York:20211023T100000
DTEND;TZID=America/New_York:20211023T140000
DTSTAMP:20260425T142231
CREATED:20211002T030903Z
LAST-MODIFIED:20211002T030903Z
UID:1385-1634983200-1634997600@helenkennard.com
SUMMARY:Harvest Meadow Stamp Camp
DESCRIPTION:We will be making 12 cards ( 3 each of 4 designs) and a 3D Project. RSVP by October 15th.  Cost $40\, you will have left over product to make more projects. I will have everything cut\, scored and ready to put together.
URL:https://helenkennard.com/event/harvest-meadow-stamp-camp-2/
LOCATION:Helen Kennard’s Studio\, 3106 Juniper Branch Drive\, Grimesland\, NC\, 27837\, United States
CATEGORIES:Stamp Camp
ORGANIZER;CN="Helen Kennard":MAILTO:helenkennard@gmail.com
END:VEVENT
BEGIN:VEVENT
DTSTART;TZID=America/New_York:20211022T183000
DTEND;TZID=America/New_York:20211022T210000
DTSTAMP:20260425T142231
CREATED:20211002T030208Z
LAST-MODIFIED:20211002T032657Z
UID:1380-1634927400-1634936400@helenkennard.com
SUMMARY:Harvest Meadow Stamp Camp
DESCRIPTION:  \nWe will be making 12 cards ( 3 each of 4 designs) and a 3D Project. RSVP by October 15th.  Cost $40\, you will have left over product to make more projects. I will have everything cut\, scored and ready to put together.
URL:https://helenkennard.com/event/harvest-meadow-stamp-camp/
LOCATION:Helen Kennard’s Studio\, 3106 Juniper Branch Drive\, Grimesland\, NC\, 27837\, United States
CATEGORIES:Stamp Camp
ORGANIZER;CN="Helen Kennard":MAILTO:helenkennard@gmail.com
END:VEVENT
END:VCALENDAR