BEGIN:VCALENDAR
VERSION:2.0
PRODID:-//HelenKennard.com - Helen Kennard, Stampin&#039; Up! Demonstrator - ECPv6.15.20//NONSGML v1.0//EN
CALSCALE:GREGORIAN
METHOD:PUBLISH
X-ORIGINAL-URL:https://helenkennard.com
X-WR-CALDESC:Events for HelenKennard.com - Helen Kennard, Stampin&#039; Up! Demonstrator
REFRESH-INTERVAL;VALUE=DURATION:PT1H
X-Robots-Tag:noindex
X-PUBLISHED-TTL:PT1H
BEGIN:VTIMEZONE
TZID:America/New_York
BEGIN:DAYLIGHT
TZOFFSETFROM:-0500
TZOFFSETTO:-0400
TZNAME:EDT
DTSTART:20180311T070000
END:DAYLIGHT
BEGIN:STANDARD
TZOFFSETFROM:-0400
TZOFFSETTO:-0500
TZNAME:EST
DTSTART:20181104T060000
END:STANDARD
BEGIN:DAYLIGHT
TZOFFSETFROM:-0500
TZOFFSETTO:-0400
TZNAME:EDT
DTSTART:20190310T070000
END:DAYLIGHT
BEGIN:STANDARD
TZOFFSETFROM:-0400
TZOFFSETTO:-0500
TZNAME:EST
DTSTART:20191103T060000
END:STANDARD
BEGIN:DAYLIGHT
TZOFFSETFROM:-0500
TZOFFSETTO:-0400
TZNAME:EDT
DTSTART:20200308T070000
END:DAYLIGHT
BEGIN:STANDARD
TZOFFSETFROM:-0400
TZOFFSETTO:-0500
TZNAME:EST
DTSTART:20201101T060000
END:STANDARD
BEGIN:DAYLIGHT
TZOFFSETFROM:-0500
TZOFFSETTO:-0400
TZNAME:EDT
DTSTART:20210314T070000
END:DAYLIGHT
BEGIN:STANDARD
TZOFFSETFROM:-0400
TZOFFSETTO:-0500
TZNAME:EST
DTSTART:20211107T060000
END:STANDARD
END:VTIMEZONE
BEGIN:VEVENT
DTSTART;TZID=America/New_York:20200113T183000
DTEND;TZID=America/New_York:20200113T210000
DTSTAMP:20260425T211541
CREATED:20200107T153239Z
LAST-MODIFIED:20200107T153239Z
UID:1079-1578940200-1578949200@helenkennard.com
SUMMARY:January Technique Class
DESCRIPTION:This is a fun filled night with no stress! We make beautiful cards using different techniques or fun folds. This is FREE with qualifying order. You will love this class!
URL:https://helenkennard.com/event/january-technique-class/
LOCATION:Helen Kennard’s Studio\, 3106 Juniper Branch Drive\, Grimesland\, NC\, 27837\, United States
CATEGORIES:Techniques Club
END:VEVENT
BEGIN:VEVENT
DTSTART;TZID=America/New_York:20190211T183000
DTEND;TZID=America/New_York:20190211T213000
DTSTAMP:20260425T211541
CREATED:20190205T191409Z
LAST-MODIFIED:20190205T191409Z
UID:1008-1549909800-1549920600@helenkennard.com
SUMMARY:Techniques Club
DESCRIPTION:Stamp Technique Club Meets every month on the 2nd Monday of the month. This is a group of stampers that stamp together having fun and fellowship every month. They love to stay up on everything Stampin’UP! learning new techniques and folds.  This is a six month commitment to join and I have openings. If you would like to come and be our guest\, we would love to have you! RSVP by the 1st of the month. \nPlease bring your own adhesive or I’ll have some for purchase.
URL:https://helenkennard.com/event/techniques-club/
LOCATION:Helen Kennard’s Studio\, 3106 Juniper Branch Drive\, Grimesland\, NC\, 27837\, United States
CATEGORIES:Techniques Club
ATTACH;FMTTYPE=image/jpeg:https://helenkennard.com/wp-content/uploads/2019/02/2019_OCC_P41.jpg
ORGANIZER;CN="Helen Kennard":MAILTO:helenkennard@gmail.com
END:VEVENT
END:VCALENDAR